BEGIN:VCALENDAR
VERSION:2.0
PRODID:-//PYVOBJECT//NONSGML Version 1//EN
BEGIN:VEVENT
UID:19592:1391
DTSTART:20130403T000000
DTEND:20130503T000000
DESCRIPTION:T&auml\;glich Mittags-Men&uuml\;s (auch zum Mitnehmen)
DTSTAMP:20260421T134114Z
SUMMARY:NEWS: Mittags-Menü
END:VEVENT
END:VCALENDAR
